BEGIN:VCALENDAR
VERSION:2.0
PRODID:-//Molecular, Cellular, and Integrative Physiology (MCIP) - ECPv6.15.20//NONSGML v1.0//EN
CALSCALE:GREGORIAN
METHOD:PUBLISH
X-WR-CALNAME:Molecular, Cellular, and Integrative Physiology (MCIP)
X-ORIGINAL-URL:https://www.mcip.ucla.edu
X-WR-CALDESC:Events for Molecular, Cellular, and Integrative Physiology (MCIP)
REFRESH-INTERVAL;VALUE=DURATION:PT1H
X-Robots-Tag:noindex
X-PUBLISHED-TTL:PT1H
BEGIN:VTIMEZONE
TZID:America/Los_Angeles
BEGIN:DAYLIGHT
TZOFFSETFROM:-0800
TZOFFSETTO:-0700
TZNAME:PDT
DTSTART:20240310T100000
END:DAYLIGHT
BEGIN:STANDARD
TZOFFSETFROM:-0700
TZOFFSETTO:-0800
TZNAME:PST
DTSTART:20241103T090000
END:STANDARD
BEGIN:DAYLIGHT
TZOFFSETFROM:-0800
TZOFFSETTO:-0700
TZNAME:PDT
DTSTART:20250309T100000
END:DAYLIGHT
BEGIN:STANDARD
TZOFFSETFROM:-0700
TZOFFSETTO:-0800
TZNAME:PST
DTSTART:20251102T090000
END:STANDARD
BEGIN:DAYLIGHT
TZOFFSETFROM:-0800
TZOFFSETTO:-0700
TZNAME:PDT
DTSTART:20260308T100000
END:DAYLIGHT
BEGIN:STANDARD
TZOFFSETFROM:-0700
TZOFFSETTO:-0800
TZNAME:PST
DTSTART:20261101T090000
END:STANDARD
END:VTIMEZONE
BEGIN:VEVENT
DTSTART;TZID=America/Los_Angeles:20251021T120000
DTEND;TZID=America/Los_Angeles:20251021T130000
DTSTAMP:20260420T154117
CREATED:20240904T213600Z
LAST-MODIFIED:20251013T225552Z
UID:6179-1761048000-1761051600@www.mcip.ucla.edu
SUMMARY:"Investigating the Developing Brain: How Sleep and Genetic Factors Influence Altered Neurodevelopment" - Emily Chiem (Dapretto Lab)
DESCRIPTION:
URL:https://www.mcip.ucla.edu/event/tbd-emily-chiem-dapretto-lab/
LOCATION:158 Hershey Hall
CATEGORIES:Student Seminar
ATTACH;FMTTYPE=image/jpeg:https://wp.lifesci.ucla.edu/mcip/wp-content/uploads/sites/4/2021/06/MCIP_Chiem6-scaled.jpg
END:VEVENT
END:VCALENDAR