BEGIN:VCALENDAR
VERSION:2.0
PRODID:-//Molecular, Cellular, and Integrative Physiology (MCIP) - ECPv6.15.20//NONSGML v1.0//EN
CALSCALE:GREGORIAN
METHOD:PUBLISH
X-WR-CALNAME:Molecular, Cellular, and Integrative Physiology (MCIP)
X-ORIGINAL-URL:https://www.mcip.ucla.edu
X-WR-CALDESC:Events for Molecular, Cellular, and Integrative Physiology (MCIP)
REFRESH-INTERVAL;VALUE=DURATION:PT1H
X-Robots-Tag:noindex
X-PUBLISHED-TTL:PT1H
BEGIN:VTIMEZONE
TZID:America/Los_Angeles
BEGIN:DAYLIGHT
TZOFFSETFROM:-0800
TZOFFSETTO:-0700
TZNAME:PDT
DTSTART:20240310T100000
END:DAYLIGHT
BEGIN:STANDARD
TZOFFSETFROM:-0700
TZOFFSETTO:-0800
TZNAME:PST
DTSTART:20241103T090000
END:STANDARD
BEGIN:DAYLIGHT
TZOFFSETFROM:-0800
TZOFFSETTO:-0700
TZNAME:PDT
DTSTART:20250309T100000
END:DAYLIGHT
BEGIN:STANDARD
TZOFFSETFROM:-0700
TZOFFSETTO:-0800
TZNAME:PST
DTSTART:20251102T090000
END:STANDARD
BEGIN:DAYLIGHT
TZOFFSETFROM:-0800
TZOFFSETTO:-0700
TZNAME:PDT
DTSTART:20260308T100000
END:DAYLIGHT
BEGIN:STANDARD
TZOFFSETFROM:-0700
TZOFFSETTO:-0800
TZNAME:PST
DTSTART:20261101T090000
END:STANDARD
END:VTIMEZONE
BEGIN:VEVENT
DTSTART;TZID=America/Los_Angeles:20250610T120000
DTEND;TZID=America/Los_Angeles:20250610T130000
DTSTAMP:20260420T221541
CREATED:20240904T212759Z
LAST-MODIFIED:20250529T220107Z
UID:6170-1749556800-1749560400@www.mcip.ucla.edu
SUMMARY:"Investigating the Effect of Weight Loss on Acute Lymphoblastic Leukemia (ALL) and the Adipose Tissue Microenvironment" - Jia Tan (Mittelman Lab)
DESCRIPTION:
URL:https://www.mcip.ucla.edu/event/tbd-jia-tan-mittelman-lab/
LOCATION:158 Hershey Hall
CATEGORIES:Student Seminar
ATTACH;FMTTYPE=image/jpeg:https://wp.lifesci.ucla.edu/mcip/wp-content/uploads/sites/4/2021/06/Tan-Jia-scaled.jpg
END:VEVENT
END:VCALENDAR