BEGIN:VCALENDAR
VERSION:2.0
PRODID:-//Molecular, Cellular, and Integrative Physiology (MCIP) - ECPv6.15.20//NONSGML v1.0//EN
CALSCALE:GREGORIAN
METHOD:PUBLISH
X-WR-CALNAME:Molecular, Cellular, and Integrative Physiology (MCIP)
X-ORIGINAL-URL:https://www.mcip.ucla.edu
X-WR-CALDESC:Events for Molecular, Cellular, and Integrative Physiology (MCIP)
REFRESH-INTERVAL;VALUE=DURATION:PT1H
X-Robots-Tag:noindex
X-PUBLISHED-TTL:PT1H
BEGIN:VTIMEZONE
TZID:America/Los_Angeles
BEGIN:DAYLIGHT
TZOFFSETFROM:-0800
TZOFFSETTO:-0700
TZNAME:PDT
DTSTART:20200308T100000
END:DAYLIGHT
BEGIN:STANDARD
TZOFFSETFROM:-0700
TZOFFSETTO:-0800
TZNAME:PST
DTSTART:20201101T090000
END:STANDARD
BEGIN:DAYLIGHT
TZOFFSETFROM:-0800
TZOFFSETTO:-0700
TZNAME:PDT
DTSTART:20210314T100000
END:DAYLIGHT
BEGIN:STANDARD
TZOFFSETFROM:-0700
TZOFFSETTO:-0800
TZNAME:PST
DTSTART:20211107T090000
END:STANDARD
BEGIN:DAYLIGHT
TZOFFSETFROM:-0800
TZOFFSETTO:-0700
TZNAME:PDT
DTSTART:20220313T100000
END:DAYLIGHT
BEGIN:STANDARD
TZOFFSETFROM:-0700
TZOFFSETTO:-0800
TZNAME:PST
DTSTART:20221106T090000
END:STANDARD
BEGIN:DAYLIGHT
TZOFFSETFROM:-0800
TZOFFSETTO:-0700
TZNAME:PDT
DTSTART:20230312T100000
END:DAYLIGHT
BEGIN:STANDARD
TZOFFSETFROM:-0700
TZOFFSETTO:-0800
TZNAME:PST
DTSTART:20231105T090000
END:STANDARD
END:VTIMEZONE
BEGIN:VEVENT
DTSTART;TZID=America/Los_Angeles:20220111T120000
DTEND;TZID=America/Los_Angeles:20220111T130000
DTSTAMP:20260420T213502
CREATED:20211013T173955Z
LAST-MODIFIED:20211217T213757Z
UID:5007-1641902400-1641906000@www.mcip.ucla.edu
SUMMARY:“Investigating adipose tissue–cancer cell crosstalk in acute lymphoblastic leukemia” – Michael Cohen (Mittelman Lab)
DESCRIPTION:
URL:https://www.mcip.ucla.edu/event/tbd-michael-cohen-mittelman-lab/
LOCATION:Zoom
CATEGORIES:Student Seminar
ATTACH;FMTTYPE=image/jpeg:https://wp.lifesci.ucla.edu/mcip/wp-content/uploads/sites/4/2021/01/Cohen-Micahel-scaled.jpg
END:VEVENT
BEGIN:VEVENT
DTSTART;TZID=America/Los_Angeles:20211214T120000
DTEND;TZID=America/Los_Angeles:20211214T130000
DTSTAMP:20260420T213502
CREATED:20211013T173517Z
LAST-MODIFIED:20211201T191833Z
UID:5003-1639483200-1639486800@www.mcip.ucla.edu
SUMMARY:“Functional connectomes of amnesic and persistent memories” – Benita Jin (DeNardo Lab)
DESCRIPTION:
URL:https://www.mcip.ucla.edu/event/tbd-benita-jin-denardo-lab/
LOCATION:Zoom
CATEGORIES:Student Seminar
ATTACH;FMTTYPE=image/jpeg:https://wp.lifesci.ucla.edu/mcip/wp-content/uploads/sites/4/2021/01/Jin-Benita-scaled.jpg
END:VEVENT
BEGIN:VEVENT
DTSTART;TZID=America/Los_Angeles:20211109T120000
DTEND;TZID=America/Los_Angeles:20211109T130000
DTSTAMP:20260420T213502
CREATED:20210305T173910Z
LAST-MODIFIED:20210802T234359Z
UID:4384-1636459200-1636462800@www.mcip.ucla.edu
SUMMARY:"Different simultaneous sleep states in the human hippocampus and neocortex" - Rockelle Guthrie (Poe Lab)
DESCRIPTION:
URL:https://www.mcip.ucla.edu/event/sleep-replay-and-its-role-in-offline-memory-consolidation-rockelle-guthrie-poe-lab/
LOCATION:Zoom
CATEGORIES:Student Seminar
ATTACH;FMTTYPE=image/jpeg:https://wp.lifesci.ucla.edu/mcip/wp-content/uploads/sites/4/2021/01/Guthrie-Rockelle-scaled.jpg
END:VEVENT
BEGIN:VEVENT
DTSTART;TZID=America/Los_Angeles:20210914T120000
DTEND;TZID=America/Los_Angeles:20210914T130000
DTSTAMP:20260420T213502
CREATED:20210305T174037Z
LAST-MODIFIED:20210907T171755Z
UID:4387-1631620800-1631624400@www.mcip.ucla.edu
SUMMARY:"Cathepsin D deficiency in Retinal Pigment Epithelial cells mediates Stargardt Disease pathogenesis" - Eunice Ng (Radu Lab)
DESCRIPTION:
URL:https://www.mcip.ucla.edu/event/mechanisms-of-rpe-dysfunction-in-stargardt-disease-eunice-ng-radu-lab/
LOCATION:Zoom
CATEGORIES:Student Seminar
ATTACH;FMTTYPE=image/jpeg:https://wp.lifesci.ucla.edu/mcip/wp-content/uploads/sites/4/2021/01/Ng-Eunice.jpg
END:VEVENT
BEGIN:VEVENT
DTSTART;TZID=America/Los_Angeles:20210713T120000
DTEND;TZID=America/Los_Angeles:20210713T130000
DTSTAMP:20260420T213502
CREATED:20210305T173735Z
LAST-MODIFIED:20210317T205233Z
UID:4380-1626177600-1626181200@www.mcip.ucla.edu
SUMMARY:"Mechanism of an anti-aging small molecule" - Chieh Chen (Huang Lab)
DESCRIPTION:
URL:https://www.mcip.ucla.edu/event/mechanism-of-an-anti-aging-small-molecule-chieh-chen-huang-lab/
LOCATION:Zoom
CATEGORIES:Student Seminar
ATTACH;FMTTYPE=image/jpeg:https://wp.lifesci.ucla.edu/mcip/wp-content/uploads/sites/4/2021/01/Cheh-Chieh-scaled.jpg
END:VEVENT
BEGIN:VEVENT
DTSTART;TZID=America/Los_Angeles:20210612T100000
DTEND;TZID=America/Los_Angeles:20210612T113000
DTSTAMP:20260420T213502
CREATED:20210603T203132Z
LAST-MODIFIED:20210611T193534Z
UID:4771-1623492000-1623497400@www.mcip.ucla.edu
SUMMARY:IBP & MCIP 2021 Virtual Commencement Celebration
DESCRIPTION:The Department of Integrative Biology and Physiology (IBP) & Interdepartmental Ph.D. Program in Molecular\, Cellular & Integrative Physiology (MCIP) cordially invite you to join our Virtual Celebration for our graduates on Saturday\, June 12\, 2021 at 10:00 a.m. \nThe program will include remarks by: \nIntroduction of Faculty and Opening Remarks – Professor Rachelle Crosbie\nPresentation of Outstanding Senior Award – Professor Patty Phelps\nAddress by Outstanding Senior – Suchita Kumar\nIntroduction of Molecular\, Cellular\, & Integrative Physiology Ph.D. Degree Candidates – Professor Mark Frye\nIntroduction of Physiological Science M.S. Degree Candidates – Professor Amy Rowat\nPresentation of Distinguished TA Teaching Award – Professor Amy Rowat\nIntroduction of Physiological Science B.S. Degree Candidates \n \n 
URL:https://www.mcip.ucla.edu/event/ibp-mcip-2021-virtual-commencement-celebration/
LOCATION:Stage Clip
CATEGORIES:Commencement
ATTACH;FMTTYPE=image/jpeg:https://wp.lifesci.ucla.edu/mcip/wp-content/uploads/sites/4/2021/06/2021-IBP-MCIP-Commencement-Flyer_FINAL-verison-with-link_6.10.21-scaled.jpg
END:VEVENT
BEGIN:VEVENT
DTSTART;TZID=America/Los_Angeles:20210608T120000
DTEND;TZID=America/Los_Angeles:20210608T130000
DTSTAMP:20260420T213502
CREATED:20210304T202304Z
LAST-MODIFIED:20210601T160655Z
UID:4223-1623153600-1623157200@www.mcip.ucla.edu
SUMMARY:"Integrative Multiomics and Systems Biology of Pulmonary Arterial Hypertension" - Jason Hong (Yang/Eghbali Labs)
DESCRIPTION:
URL:https://www.mcip.ucla.edu/event/single-cell-analysis-of-pulmonary-arterial-hypertension-jason-hong-yang-eghbali-labs/
LOCATION:Zoom
CATEGORIES:Student Seminar
ATTACH;FMTTYPE=image/jpeg:https://wp.lifesci.ucla.edu/mcip/wp-content/uploads/sites/4/2021/01/Hong-Jason_STAR-Fellow_updated-photo.jpg
END:VEVENT
BEGIN:VEVENT
DTSTART;TZID=America/Los_Angeles:20210511T110000
DTEND;TZID=America/Los_Angeles:20210511T120000
DTSTAMP:20260420T213502
CREATED:20210304T202223Z
LAST-MODIFIED:20210318T211203Z
UID:4220-1620730800-1620734400@www.mcip.ucla.edu
SUMMARY:"Is the nightly light pollution a driver of autistic behaviors" - Huei-Bin Wang (Colwell Lab)
DESCRIPTION:
URL:https://www.mcip.ucla.edu/event/is-the-nightly-light-pollution-a-driver-of-autistic-behaviors-huei-bin-wang-colwell-lab/
LOCATION:Zoom
CATEGORIES:Student Seminar
END:VEVENT
BEGIN:VEVENT
DTSTART;TZID=America/Los_Angeles:20210309T120000
DTEND;TZID=America/Los_Angeles:20210309T130000
DTSTAMP:20260420T213502
CREATED:20210304T202100Z
LAST-MODIFIED:20210304T202100Z
UID:4214-1615291200-1615294800@www.mcip.ucla.edu
SUMMARY:"Protective Effects of Neonatal Plasma in Ischemic Heart Disease" - Ngoc Nguyen (Ardehali Lab)
DESCRIPTION:
URL:https://www.mcip.ucla.edu/event/protective-effects-of-neonatal-plasma-in-ischemic-heart-disease-ngoc-nguyen-ardehali-lab/
LOCATION:Zoom
CATEGORIES:Student Seminar
END:VEVENT
END:VCALENDAR