BEGIN:VCALENDAR
VERSION:2.0
PRODID:-//Molecular, Cellular, and Integrative Physiology (MCIP) - ECPv6.15.20//NONSGML v1.0//EN
CALSCALE:GREGORIAN
METHOD:PUBLISH
X-WR-CALNAME:Molecular, Cellular, and Integrative Physiology (MCIP)
X-ORIGINAL-URL:https://www.mcip.ucla.edu
X-WR-CALDESC:Events for Molecular, Cellular, and Integrative Physiology (MCIP)
REFRESH-INTERVAL;VALUE=DURATION:PT1H
X-Robots-Tag:noindex
X-PUBLISHED-TTL:PT1H
BEGIN:VTIMEZONE
TZID:America/Los_Angeles
BEGIN:DAYLIGHT
TZOFFSETFROM:-0800
TZOFFSETTO:-0700
TZNAME:PDT
DTSTART:20200308T100000
END:DAYLIGHT
BEGIN:STANDARD
TZOFFSETFROM:-0700
TZOFFSETTO:-0800
TZNAME:PST
DTSTART:20201101T090000
END:STANDARD
BEGIN:DAYLIGHT
TZOFFSETFROM:-0800
TZOFFSETTO:-0700
TZNAME:PDT
DTSTART:20210314T100000
END:DAYLIGHT
BEGIN:STANDARD
TZOFFSETFROM:-0700
TZOFFSETTO:-0800
TZNAME:PST
DTSTART:20211107T090000
END:STANDARD
BEGIN:DAYLIGHT
TZOFFSETFROM:-0800
TZOFFSETTO:-0700
TZNAME:PDT
DTSTART:20220313T100000
END:DAYLIGHT
BEGIN:STANDARD
TZOFFSETFROM:-0700
TZOFFSETTO:-0800
TZNAME:PST
DTSTART:20221106T090000
END:STANDARD
BEGIN:DAYLIGHT
TZOFFSETFROM:-0800
TZOFFSETTO:-0700
TZNAME:PDT
DTSTART:20230312T100000
END:DAYLIGHT
BEGIN:STANDARD
TZOFFSETFROM:-0700
TZOFFSETTO:-0800
TZNAME:PST
DTSTART:20231105T090000
END:STANDARD
BEGIN:DAYLIGHT
TZOFFSETFROM:-0800
TZOFFSETTO:-0700
TZNAME:PDT
DTSTART:20240310T100000
END:DAYLIGHT
BEGIN:STANDARD
TZOFFSETFROM:-0700
TZOFFSETTO:-0800
TZNAME:PST
DTSTART:20241103T090000
END:STANDARD
END:VTIMEZONE
BEGIN:VEVENT
DTSTART;TZID=America/Los_Angeles:20230725T120000
DTEND;TZID=America/Los_Angeles:20230725T130000
DTSTAMP:20260420T205709
CREATED:20220902T200826Z
LAST-MODIFIED:20230724T154407Z
UID:5477-1690286400-1690290000@www.mcip.ucla.edu
SUMMARY:"Developing small molecule enhancers of secreted clusterin for treating Alzheimer’s disease" - Whitaker Cohn (John Lab)
DESCRIPTION:
URL:https://www.mcip.ucla.edu/event/tbd-whitaker-cohn-john-lab/
LOCATION:1100 TLSB
CATEGORIES:Student Seminar
ATTACH;FMTTYPE=image/jpeg:https://wp.lifesci.ucla.edu/mcip/wp-content/uploads/sites/4/2021/01/Cohn-Whitaker.jpeg
END:VEVENT
BEGIN:VEVENT
DTSTART;TZID=America/Los_Angeles:20230613T120000
DTEND;TZID=America/Los_Angeles:20230613T130000
DTSTAMP:20260420T205709
CREATED:20220902T200533Z
LAST-MODIFIED:20230605T000619Z
UID:5471-1686657600-1686661200@www.mcip.ucla.edu
SUMMARY:"A microbiome dysbiosis-inducing risk variant mediates susceptibility to Parkinson's disease" - Julianne Yang (Jacobs Lab)
DESCRIPTION:
URL:https://www.mcip.ucla.edu/event/the-genetic-risk-associated-microbiome-in-parkinsons-disease-julianne-yang-jacobs-lab/
LOCATION:158 Hershey Hall
CATEGORIES:Student Seminar
ATTACH;FMTTYPE=image/jpeg:https://wp.lifesci.ucla.edu/mcip/wp-content/uploads/sites/4/2021/01/Yang-Julianne-scaled.jpg
END:VEVENT
BEGIN:VEVENT
DTSTART;TZID=America/Los_Angeles:20230606T120000
DTEND;TZID=America/Los_Angeles:20230606T130000
DTSTAMP:20260420T205709
CREATED:20230330T204611Z
LAST-MODIFIED:20230605T000658Z
UID:5697-1686052800-1686056400@www.mcip.ucla.edu
SUMMARY:“Elevated sleep need in a stress-resilient Drosophila species” – Jessica Yano (Donlea Lab)
DESCRIPTION:
URL:https://www.mcip.ucla.edu/event/tbd-jessica-yano-donlea-lab/
LOCATION:158 Hershey Hall
CATEGORIES:Student Seminar
ATTACH;FMTTYPE=image/jpeg:https://wp.lifesci.ucla.edu/mcip/wp-content/uploads/sites/4/2021/01/Yano-Jessica-scaled.jpg
END:VEVENT
BEGIN:VEVENT
DTSTART;TZID=America/Los_Angeles:20230523T120000
DTEND;TZID=America/Los_Angeles:20230523T130000
DTSTAMP:20260420T205709
CREATED:20230123T201007Z
LAST-MODIFIED:20230213T202412Z
UID:5655-1684843200-1684846800@www.mcip.ucla.edu
SUMMARY:“Pharmacologic Neuromodulation Targeting Neuroinflammation as a Novel Therapeutic Strategy for Experimental Pulmonary Hypertension” – Asif Razee (Umar Lab)
DESCRIPTION:
URL:https://www.mcip.ucla.edu/event/tbd-asif-razee-umar-lab/
LOCATION:158 Hershey Hall
CATEGORIES:Seminars
ATTACH;FMTTYPE=image/jpeg:https://wp.lifesci.ucla.edu/mcip/wp-content/uploads/sites/4/2021/01/Razee-Asif-scaled.jpg
END:VEVENT
BEGIN:VEVENT
DTSTART;TZID=America/Los_Angeles:20230509T120000
DTEND;TZID=America/Los_Angeles:20230509T130000
DTSTAMP:20260420T205709
CREATED:20220902T200413Z
LAST-MODIFIED:20220902T200413Z
UID:5468-1683633600-1683637200@www.mcip.ucla.edu
SUMMARY:"Role of microRNA-98 in Myocardial Ischemia Reperfusion Injury in Late Pregnancy" - Laila Aryan (Eghbali Lab)
DESCRIPTION:
URL:https://www.mcip.ucla.edu/event/role-of-microrna-98-in-myocardial-ischemia-reperfusion-injury-in-late-pregnancy-laila-aryan-eghbali-lab/
LOCATION:158 Hershey Hall
CATEGORIES:Student Seminar
ATTACH;FMTTYPE=image/jpeg:https://wp.lifesci.ucla.edu/mcip/wp-content/uploads/sites/4/2021/01/Aryan-Laila_Fall-2021-scaled.jpg
END:VEVENT
BEGIN:VEVENT
DTSTART;TZID=America/Los_Angeles:20230425T120000
DTEND;TZID=America/Los_Angeles:20230425T130000
DTSTAMP:20260420T205709
CREATED:20220903T003400Z
LAST-MODIFIED:20230410T193939Z
UID:5514-1682424000-1682427600@www.mcip.ucla.edu
SUMMARY:"Mathematical Modeling of Myocardial Transthyretin Amyloid Deposition and Clearance" - Ashley Stein-Merlob (Garfinkel Lab)
DESCRIPTION:
URL:https://www.mcip.ucla.edu/event/tbd-ashley-stein-merlob-garfinkel-lab/
LOCATION:158 Hershey Hall
CATEGORIES:Student Seminar
ATTACH;FMTTYPE=image/jpeg:https://wp.lifesci.ucla.edu/mcip/wp-content/uploads/sites/4/2021/01/Stein-Merlob-Ashley_STAR-Fellow-scaled.jpg
END:VEVENT
BEGIN:VEVENT
DTSTART;TZID=America/Los_Angeles:20230411T120000
DTEND;TZID=America/Los_Angeles:20230411T130000
DTSTAMP:20260420T205709
CREATED:20220902T200251Z
LAST-MODIFIED:20230327T215639Z
UID:5465-1681214400-1681218000@www.mcip.ucla.edu
SUMMARY:"PPARg-induced Regulation of PIXL Interacts with Ribosomal Machinery and Improves Glucose Metabolism" - Mirian De Siqueira (Villanueva Lab)
DESCRIPTION:
URL:https://www.mcip.ucla.edu/event/tbd-mirian-de-siqueira-villanueva-lab/
LOCATION:158 Hershey Hall
CATEGORIES:Student Seminar
ATTACH;FMTTYPE=image/jpeg:https://wp.lifesci.ucla.edu/mcip/wp-content/uploads/sites/4/2021/01/221019_MED_0193-scaled.jpg
END:VEVENT
BEGIN:VEVENT
DTSTART;TZID=America/Los_Angeles:20230314T120000
DTEND;TZID=America/Los_Angeles:20230314T130000
DTSTAMP:20260420T205709
CREATED:20220902T200042Z
LAST-MODIFIED:20230307T214757Z
UID:5462-1678795200-1678798800@www.mcip.ucla.edu
SUMMARY:"Development and application of multi-omics integration tools to understand Alzheimer's disease" - Jessica Ding (Yang Lab)
DESCRIPTION:
URL:https://www.mcip.ucla.edu/event/tbd-jessica-ding-yang-lab/
LOCATION:158 Hershey Hall
CATEGORIES:Student Seminar
ATTACH;FMTTYPE=image/jpeg:https://wp.lifesci.ucla.edu/mcip/wp-content/uploads/sites/4/2021/01/Ding-Jessica-scaled.jpg
END:VEVENT
BEGIN:VEVENT
DTSTART;TZID=America/Los_Angeles:20230110T120000
DTEND;TZID=America/Los_Angeles:20230110T130000
DTSTAMP:20260420T205709
CREATED:20220902T195148Z
LAST-MODIFIED:20230103T192002Z
UID:5459-1673352000-1673355600@www.mcip.ucla.edu
SUMMARY:"Protein Translation Regulation in Cardiac Hypertrophy and Remodeling" - Frank Wang (Wang Lab)
DESCRIPTION:
URL:https://www.mcip.ucla.edu/event/tbd-frank-wang-wang-lab/
LOCATION:158 Hershey Hall
CATEGORIES:Student Seminar
ATTACH;FMTTYPE=image/jpeg:https://wp.lifesci.ucla.edu/mcip/wp-content/uploads/sites/4/2021/01/Wang-Yifan-Frank-scaled.jpg
END:VEVENT
BEGIN:VEVENT
DTSTART;TZID=America/Los_Angeles:20221108T120000
DTEND;TZID=America/Los_Angeles:20221108T130000
DTSTAMP:20260420T205709
CREATED:20220902T194347Z
LAST-MODIFIED:20220902T195926Z
UID:5449-1667908800-1667912400@www.mcip.ucla.edu
SUMMARY:"Mechanism of Adipose-Liver Crosstalk" - Sicheng Zhang (Villanueva Lab)
DESCRIPTION:
URL:https://www.mcip.ucla.edu/event/mechanism-of-adipose-liver-crosstalk-sicheng-zhang-villanueva-lab/
LOCATION:158 Hershey Hall
CATEGORIES:Student Seminar
ATTACH;FMTTYPE=image/jpeg:https://wp.lifesci.ucla.edu/mcip/wp-content/uploads/sites/4/2021/01/MCIP_Zhang-Sicheng2-scaled.jpg
END:VEVENT
BEGIN:VEVENT
DTSTART;TZID=America/Los_Angeles:20221011T120000
DTEND;TZID=America/Los_Angeles:20221011T130000
DTSTAMP:20260420T205709
CREATED:20220902T193930Z
LAST-MODIFIED:20221004T190719Z
UID:5446-1665489600-1665493200@www.mcip.ucla.edu
SUMMARY:“Characterizing the transcriptomic and genomic signatures of immune cell infiltration in undifferentiated sarcoma” – Danielle Graham (Graeber Lab)
DESCRIPTION:
URL:https://www.mcip.ucla.edu/event/tbd-danielle-graham-graeber-lab/
LOCATION:Zoom
CATEGORIES:Student Seminar
ATTACH;FMTTYPE=image/jpeg:https://wp.lifesci.ucla.edu/mcip/wp-content/uploads/sites/4/2021/01/Graham-Danielle-1.jpg
END:VEVENT
BEGIN:VEVENT
DTSTART;TZID=America/Los_Angeles:20220927T120000
DTEND;TZID=America/Los_Angeles:20220927T130000
DTSTAMP:20260420T205709
CREATED:20211013T181525Z
LAST-MODIFIED:20211013T181525Z
UID:5047-1664280000-1664283600@www.mcip.ucla.edu
SUMMARY:“Elucidating the effects of the gut microbiome in the pathogenesis of Alzheimer’s disease” – Sabeen Kazmi (Hsiao Lab)
DESCRIPTION:
URL:https://www.mcip.ucla.edu/event/elucidating-the-effects-of-the-gut-microbiome-in-the-pathogenesis-of-alzheimers-disease-sabeen-kazmi-hsiao-lab/
LOCATION:Zoom
CATEGORIES:Student Seminar
ATTACH;FMTTYPE=image/jpeg:https://wp.lifesci.ucla.edu/mcip/wp-content/uploads/sites/4/2021/01/Kazmi-Sabeen-scaled.jpg
END:VEVENT
BEGIN:VEVENT
DTSTART;TZID=America/Los_Angeles:20220823T120000
DTEND;TZID=America/Los_Angeles:20220823T130000
DTSTAMP:20260420T205709
CREATED:20211013T181125Z
LAST-MODIFIED:20220808T204723Z
UID:5041-1661256000-1661259600@www.mcip.ucla.edu
SUMMARY:“The Role of Proprioceptive Feedback on Visual Object Tracking in Flying D.melanogaster” – Martha Rimniceanu (Frye Lab)
DESCRIPTION:
URL:https://www.mcip.ucla.edu/event/tbd-martha-rimniceanu-frye-lab/
LOCATION:Zoom
CATEGORIES:Student Seminar
ATTACH;FMTTYPE=image/jpeg:https://wp.lifesci.ucla.edu/mcip/wp-content/uploads/sites/4/2021/01/Rimniceanu-Martha.jpg
END:VEVENT
BEGIN:VEVENT
DTSTART;TZID=America/Los_Angeles:20220809T120000
DTEND;TZID=America/Los_Angeles:20220809T130000
DTSTAMP:20260420T205709
CREATED:20211013T180903Z
LAST-MODIFIED:20220801T201514Z
UID:5038-1660046400-1660050000@www.mcip.ucla.edu
SUMMARY:“Phenylephrine Induced Hypertrophic Cardiomyocyte Stiffness and Chromatin Fluidity” – Todd Kimball (Vondriska Lab)
DESCRIPTION:
URL:https://www.mcip.ucla.edu/event/tbd-todd-kimball-vondriska-lab/
LOCATION:Zoom
CATEGORIES:Student Seminar
ATTACH;FMTTYPE=image/jpeg:https://wp.lifesci.ucla.edu/mcip/wp-content/uploads/sites/4/2021/01/Kimball-Todd-scaled.jpg
END:VEVENT
BEGIN:VEVENT
DTSTART;TZID=America/Los_Angeles:20220726T120000
DTEND;TZID=America/Los_Angeles:20220726T130000
DTSTAMP:20260420T205709
CREATED:20211013T180659Z
LAST-MODIFIED:20220718T233656Z
UID:5034-1658836800-1658840400@www.mcip.ucla.edu
SUMMARY:“Targeting Mitochondrial Metabolism To Treat Heart Failure” – Aracely Acevedo (Divakaruni Lab)
DESCRIPTION:
URL:https://www.mcip.ucla.edu/event/tbd-aracely-acevedo-divakaruni-lab/
LOCATION:Zoom
CATEGORIES:Student Seminar
ATTACH;FMTTYPE=image/jpeg:https://wp.lifesci.ucla.edu/mcip/wp-content/uploads/sites/4/2021/01/Acevedo-Aracely-scaled.jpg
END:VEVENT
BEGIN:VEVENT
DTSTART;TZID=America/Los_Angeles:20220712T120000
DTEND;TZID=America/Los_Angeles:20220712T130000
DTSTAMP:20260420T205709
CREATED:20211013T175753Z
LAST-MODIFIED:20220630T192003Z
UID:5028-1657627200-1657630800@www.mcip.ucla.edu
SUMMARY:“Lipid-droplet-bound-mitochondria: an exclusive club of mitochondria within the cell” – Alexandra Brownstein (Shirihai Lab)
DESCRIPTION:
URL:https://www.mcip.ucla.edu/event/peridroplet-mitochondria-alexandra-brownstein-shirihai-lab/
LOCATION:Zoom
CATEGORIES:Student Seminar
ATTACH;FMTTYPE=image/jpeg:https://wp.lifesci.ucla.edu/mcip/wp-content/uploads/sites/4/2021/01/Brownstein-Alexandra_06.24.22_resized-e1656103727412.jpg
END:VEVENT
BEGIN:VEVENT
DTSTART;TZID=America/Los_Angeles:20220614T120000
DTEND;TZID=America/Los_Angeles:20220614T130000
DTSTAMP:20260420T205709
CREATED:20211013T175923Z
LAST-MODIFIED:20220606T151614Z
UID:5031-1655208000-1655211600@www.mcip.ucla.edu
SUMMARY:“Neural mechanism of prosocial comforting behavior” – James Dang (Hong Lab)
DESCRIPTION:
URL:https://www.mcip.ucla.edu/event/tbd-james-dang-hong-lab/
LOCATION:Zoom
CATEGORIES:Student Seminar
ATTACH;FMTTYPE=image/jpeg:https://wp.lifesci.ucla.edu/mcip/wp-content/uploads/sites/4/2021/01/211010_JD_headshot-scaled.jpg
END:VEVENT
BEGIN:VEVENT
DTSTART;TZID=America/Los_Angeles:20220611T090000
DTEND;TZID=America/Los_Angeles:20220611T103000
DTSTAMP:20260420T205709
CREATED:20220609T205908Z
LAST-MODIFIED:20220609T215449Z
UID:5301-1654938000-1654943400@www.mcip.ucla.edu
SUMMARY:2022 Commencement Ceremony
DESCRIPTION:Commencement Celebration 2022\nThe Department of Integrative Biology and Physiology & Interdepartmental PhD program in Molecular\, Cellular & Integrative Physiology will celebrate the accomplishments of our Class of 2022 graduates on Saturday\, June 11\, 2022 at 9 a.m. in the Court of Sciences.  \n\n \n 
URL:https://www.mcip.ucla.edu/event/commencement-2022/
LOCATION:Court of Sciences
CATEGORIES:Commencement
ATTACH;FMTTYPE=image/jpeg:https://wp.lifesci.ucla.edu/mcip/wp-content/uploads/sites/4/2020/02/Commencement_2013_see_us.jpeg
END:VEVENT
BEGIN:VEVENT
DTSTART;TZID=America/Los_Angeles:20220517T120000
DTEND;TZID=America/Los_Angeles:20220517T130000
DTSTAMP:20260420T205709
CREATED:20220427T202717Z
LAST-MODIFIED:20220506T222452Z
UID:5285-1652788800-1652792400@www.mcip.ucla.edu
SUMMARY:“Uncovering the Molecular Networks of Metabolic Disease Using Systems Biology” – Monty Blencowe (Yang Lab)
DESCRIPTION:
URL:https://www.mcip.ucla.edu/event/tbd-monty-blencowe-yang-lab/
LOCATION:Zoom
CATEGORIES:Student Seminar
ATTACH;FMTTYPE=image/jpeg:https://wp.lifesci.ucla.edu/mcip/wp-content/uploads/sites/4/2021/01/Blencowe-Monty-scaled.jpg
END:VEVENT
BEGIN:VEVENT
DTSTART;TZID=America/Los_Angeles:20220510T120000
DTEND;TZID=America/Los_Angeles:20220510T130000
DTSTAMP:20260420T205709
CREATED:20211013T175226Z
LAST-MODIFIED:20220427T193317Z
UID:5019-1652184000-1652187600@www.mcip.ucla.edu
SUMMARY:“Integrative Mapping of Structure and Function in Infarcted Hearts: Implications for Arrhythmogenesis” – Ching Zhu (Shivkumar Lab)
DESCRIPTION:
URL:https://www.mcip.ucla.edu/event/arrhythmogenic-sympathetic-axon-patterning-in-structural-heart-disease-ching-zhu-shivkumar-lab/
LOCATION:Zoom
CATEGORIES:Student Seminar
ATTACH;FMTTYPE=image/jpeg:https://wp.lifesci.ucla.edu/mcip/wp-content/uploads/sites/4/2021/01/Zhu-Ching.jpg
END:VEVENT
BEGIN:VEVENT
DTSTART;TZID=America/Los_Angeles:20220412T120000
DTEND;TZID=America/Los_Angeles:20220412T130000
DTSTAMP:20260420T205709
CREATED:20211013T174946Z
LAST-MODIFIED:20220329T142459Z
UID:5016-1649764800-1649768400@www.mcip.ucla.edu
SUMMARY:“Chronic vagal nerve stimulation reduces ventricular arrhythmias and prevents adverse remodeling following myocardial infarction” – Joseph Hadaya (Shivkumar Lab)
DESCRIPTION:
URL:https://www.mcip.ucla.edu/event/tbd-joseph-hadaya-shivkumar-lab/
LOCATION:Zoom
CATEGORIES:Student Seminar
ATTACH;FMTTYPE=image/jpeg:https://wp.lifesci.ucla.edu/mcip/wp-content/uploads/sites/4/2021/01/Hadaya-Joseph.jpg
END:VEVENT
BEGIN:VEVENT
DTSTART;TZID=America/Los_Angeles:20220308T120000
DTEND;TZID=America/Los_Angeles:20220308T130000
DTSTAMP:20260420T205709
CREATED:20211013T174705Z
LAST-MODIFIED:20220301T162851Z
UID:5013-1646740800-1646744400@www.mcip.ucla.edu
SUMMARY:“Investigating early retinal remodeling and secondary cone degeneration in retinitis pigmentosa” – Erika Ellis (Sampath Lab)
DESCRIPTION:
URL:https://www.mcip.ucla.edu/event/tbd-erika-ellis-sampath-lab/
LOCATION:Zoom
CATEGORIES:Student Seminar
ATTACH;FMTTYPE=image/jpeg:https://wp.lifesci.ucla.edu/mcip/wp-content/uploads/sites/4/2021/01/Ellis-Erika-scaled.jpg
END:VEVENT
BEGIN:VEVENT
DTSTART;TZID=America/Los_Angeles:20220208T120000
DTEND;TZID=America/Los_Angeles:20220208T130000
DTSTAMP:20260420T205709
CREATED:20211013T174236Z
LAST-MODIFIED:20220128T193446Z
UID:5010-1644321600-1644325200@www.mcip.ucla.edu
SUMMARY:“A unique adipocyte progenitor population promotes age-related adiposity” – Gaoyan Li (Yang Lab)
DESCRIPTION:
URL:https://www.mcip.ucla.edu/event/tbd-gaoyan-li-yang-lab/
LOCATION:Zoom
CATEGORIES:Student Seminar
ATTACH;FMTTYPE=image/jpeg:https://wp.lifesci.ucla.edu/mcip/wp-content/uploads/sites/4/2021/01/Li-Gaoyan-1.jpg
END:VEVENT
BEGIN:VEVENT
DTSTART;TZID=America/Los_Angeles:20220111T120000
DTEND;TZID=America/Los_Angeles:20220111T130000
DTSTAMP:20260420T205709
CREATED:20211013T173955Z
LAST-MODIFIED:20211217T213757Z
UID:5007-1641902400-1641906000@www.mcip.ucla.edu
SUMMARY:“Investigating adipose tissue–cancer cell crosstalk in acute lymphoblastic leukemia” – Michael Cohen (Mittelman Lab)
DESCRIPTION:
URL:https://www.mcip.ucla.edu/event/tbd-michael-cohen-mittelman-lab/
LOCATION:Zoom
CATEGORIES:Student Seminar
ATTACH;FMTTYPE=image/jpeg:https://wp.lifesci.ucla.edu/mcip/wp-content/uploads/sites/4/2021/01/Cohen-Micahel-scaled.jpg
END:VEVENT
BEGIN:VEVENT
DTSTART;TZID=America/Los_Angeles:20211214T120000
DTEND;TZID=America/Los_Angeles:20211214T130000
DTSTAMP:20260420T205709
CREATED:20211013T173517Z
LAST-MODIFIED:20211201T191833Z
UID:5003-1639483200-1639486800@www.mcip.ucla.edu
SUMMARY:“Functional connectomes of amnesic and persistent memories” – Benita Jin (DeNardo Lab)
DESCRIPTION:
URL:https://www.mcip.ucla.edu/event/tbd-benita-jin-denardo-lab/
LOCATION:Zoom
CATEGORIES:Student Seminar
ATTACH;FMTTYPE=image/jpeg:https://wp.lifesci.ucla.edu/mcip/wp-content/uploads/sites/4/2021/01/Jin-Benita-scaled.jpg
END:VEVENT
BEGIN:VEVENT
DTSTART;TZID=America/Los_Angeles:20211109T120000
DTEND;TZID=America/Los_Angeles:20211109T130000
DTSTAMP:20260420T205709
CREATED:20210305T173910Z
LAST-MODIFIED:20210802T234359Z
UID:4384-1636459200-1636462800@www.mcip.ucla.edu
SUMMARY:"Different simultaneous sleep states in the human hippocampus and neocortex" - Rockelle Guthrie (Poe Lab)
DESCRIPTION:
URL:https://www.mcip.ucla.edu/event/sleep-replay-and-its-role-in-offline-memory-consolidation-rockelle-guthrie-poe-lab/
LOCATION:Zoom
CATEGORIES:Student Seminar
ATTACH;FMTTYPE=image/jpeg:https://wp.lifesci.ucla.edu/mcip/wp-content/uploads/sites/4/2021/01/Guthrie-Rockelle-scaled.jpg
END:VEVENT
BEGIN:VEVENT
DTSTART;TZID=America/Los_Angeles:20210914T120000
DTEND;TZID=America/Los_Angeles:20210914T130000
DTSTAMP:20260420T205709
CREATED:20210305T174037Z
LAST-MODIFIED:20210907T171755Z
UID:4387-1631620800-1631624400@www.mcip.ucla.edu
SUMMARY:"Cathepsin D deficiency in Retinal Pigment Epithelial cells mediates Stargardt Disease pathogenesis" - Eunice Ng (Radu Lab)
DESCRIPTION:
URL:https://www.mcip.ucla.edu/event/mechanisms-of-rpe-dysfunction-in-stargardt-disease-eunice-ng-radu-lab/
LOCATION:Zoom
CATEGORIES:Student Seminar
ATTACH;FMTTYPE=image/jpeg:https://wp.lifesci.ucla.edu/mcip/wp-content/uploads/sites/4/2021/01/Ng-Eunice.jpg
END:VEVENT
BEGIN:VEVENT
DTSTART;TZID=America/Los_Angeles:20210713T120000
DTEND;TZID=America/Los_Angeles:20210713T130000
DTSTAMP:20260420T205709
CREATED:20210305T173735Z
LAST-MODIFIED:20210317T205233Z
UID:4380-1626177600-1626181200@www.mcip.ucla.edu
SUMMARY:"Mechanism of an anti-aging small molecule" - Chieh Chen (Huang Lab)
DESCRIPTION:
URL:https://www.mcip.ucla.edu/event/mechanism-of-an-anti-aging-small-molecule-chieh-chen-huang-lab/
LOCATION:Zoom
CATEGORIES:Student Seminar
ATTACH;FMTTYPE=image/jpeg:https://wp.lifesci.ucla.edu/mcip/wp-content/uploads/sites/4/2021/01/Cheh-Chieh-scaled.jpg
END:VEVENT
BEGIN:VEVENT
DTSTART;TZID=America/Los_Angeles:20210612T100000
DTEND;TZID=America/Los_Angeles:20210612T113000
DTSTAMP:20260420T205709
CREATED:20210603T203132Z
LAST-MODIFIED:20210611T193534Z
UID:4771-1623492000-1623497400@www.mcip.ucla.edu
SUMMARY:IBP & MCIP 2021 Virtual Commencement Celebration
DESCRIPTION:The Department of Integrative Biology and Physiology (IBP) & Interdepartmental Ph.D. Program in Molecular\, Cellular & Integrative Physiology (MCIP) cordially invite you to join our Virtual Celebration for our graduates on Saturday\, June 12\, 2021 at 10:00 a.m. \nThe program will include remarks by: \nIntroduction of Faculty and Opening Remarks – Professor Rachelle Crosbie\nPresentation of Outstanding Senior Award – Professor Patty Phelps\nAddress by Outstanding Senior – Suchita Kumar\nIntroduction of Molecular\, Cellular\, & Integrative Physiology Ph.D. Degree Candidates – Professor Mark Frye\nIntroduction of Physiological Science M.S. Degree Candidates – Professor Amy Rowat\nPresentation of Distinguished TA Teaching Award – Professor Amy Rowat\nIntroduction of Physiological Science B.S. Degree Candidates \n \n 
URL:https://www.mcip.ucla.edu/event/ibp-mcip-2021-virtual-commencement-celebration/
LOCATION:Stage Clip
CATEGORIES:Commencement
ATTACH;FMTTYPE=image/jpeg:https://wp.lifesci.ucla.edu/mcip/wp-content/uploads/sites/4/2021/06/2021-IBP-MCIP-Commencement-Flyer_FINAL-verison-with-link_6.10.21-scaled.jpg
END:VEVENT
BEGIN:VEVENT
DTSTART;TZID=America/Los_Angeles:20210608T120000
DTEND;TZID=America/Los_Angeles:20210608T130000
DTSTAMP:20260420T205709
CREATED:20210304T202304Z
LAST-MODIFIED:20210601T160655Z
UID:4223-1623153600-1623157200@www.mcip.ucla.edu
SUMMARY:"Integrative Multiomics and Systems Biology of Pulmonary Arterial Hypertension" - Jason Hong (Yang/Eghbali Labs)
DESCRIPTION:
URL:https://www.mcip.ucla.edu/event/single-cell-analysis-of-pulmonary-arterial-hypertension-jason-hong-yang-eghbali-labs/
LOCATION:Zoom
CATEGORIES:Student Seminar
ATTACH;FMTTYPE=image/jpeg:https://wp.lifesci.ucla.edu/mcip/wp-content/uploads/sites/4/2021/01/Hong-Jason_STAR-Fellow_updated-photo.jpg
END:VEVENT
END:VCALENDAR