BEGIN:VCALENDAR
VERSION:2.0
PRODID:-//Molecular, Cellular, and Integrative Physiology (MCIP) - ECPv6.15.20//NONSGML v1.0//EN
CALSCALE:GREGORIAN
METHOD:PUBLISH
X-WR-CALNAME:Molecular, Cellular, and Integrative Physiology (MCIP)
X-ORIGINAL-URL:https://www.mcip.ucla.edu
X-WR-CALDESC:Events for Molecular, Cellular, and Integrative Physiology (MCIP)
REFRESH-INTERVAL;VALUE=DURATION:PT1H
X-Robots-Tag:noindex
X-PUBLISHED-TTL:PT1H
BEGIN:VTIMEZONE
TZID:America/Los_Angeles
BEGIN:DAYLIGHT
TZOFFSETFROM:-0800
TZOFFSETTO:-0700
TZNAME:PDT
DTSTART:20250309T100000
END:DAYLIGHT
BEGIN:STANDARD
TZOFFSETFROM:-0700
TZOFFSETTO:-0800
TZNAME:PST
DTSTART:20251102T090000
END:STANDARD
BEGIN:DAYLIGHT
TZOFFSETFROM:-0800
TZOFFSETTO:-0700
TZNAME:PDT
DTSTART:20260308T100000
END:DAYLIGHT
BEGIN:STANDARD
TZOFFSETFROM:-0700
TZOFFSETTO:-0800
TZNAME:PST
DTSTART:20261101T090000
END:STANDARD
BEGIN:DAYLIGHT
TZOFFSETFROM:-0800
TZOFFSETTO:-0700
TZNAME:PDT
DTSTART:20270314T100000
END:DAYLIGHT
BEGIN:STANDARD
TZOFFSETFROM:-0700
TZOFFSETTO:-0800
TZNAME:PST
DTSTART:20271107T090000
END:STANDARD
END:VTIMEZONE
BEGIN:VEVENT
DTSTART;TZID=America/Los_Angeles:20260811T120000
DTEND;TZID=America/Los_Angeles:20260811T130000
DTSTAMP:20260420T172352
CREATED:20251104T183503Z
LAST-MODIFIED:20260303T223130Z
UID:6420-1786449600-1786453200@www.mcip.ucla.edu
SUMMARY:"TBD" - Damion Trotter (Huk Lab)
DESCRIPTION:
URL:https://www.mcip.ucla.edu/event/tbd-damion-trotter-huk-lab/
CATEGORIES:Student Seminar
ATTACH;FMTTYPE=image/jpeg:https://wp.lifesci.ucla.edu/mcip/wp-content/uploads/sites/4/2022/06/Trotter-Damion_MS-grad.jpg
END:VEVENT
END:VCALENDAR